BEGIN:VCALENDAR
VERSION:2.0
PRODID:-//Events - ECPv6.15.20//NONSGML v1.0//EN
CALSCALE:GREGORIAN
METHOD:PUBLISH
X-ORIGINAL-URL:https://www.scrippscollege.edu/events
X-WR-CALDESC:Events for Events
REFRESH-INTERVAL;VALUE=DURATION:PT1H
X-Robots-Tag:noindex
X-PUBLISHED-TTL:PT1H
BEGIN:VTIMEZONE
TZID:America/Los_Angeles
BEGIN:DAYLIGHT
TZOFFSETFROM:-0800
TZOFFSETTO:-0700
TZNAME:PDT
DTSTART:20250309T100000
END:DAYLIGHT
BEGIN:STANDARD
TZOFFSETFROM:-0700
TZOFFSETTO:-0800
TZNAME:PST
DTSTART:20251102T090000
END:STANDARD
BEGIN:DAYLIGHT
TZOFFSETFROM:-0800
TZOFFSETTO:-0700
TZNAME:PDT
DTSTART:20260308T100000
END:DAYLIGHT
BEGIN:STANDARD
TZOFFSETFROM:-0700
TZOFFSETTO:-0800
TZNAME:PST
DTSTART:20261101T090000
END:STANDARD
BEGIN:DAYLIGHT
TZOFFSETFROM:-0800
TZOFFSETTO:-0700
TZNAME:PDT
DTSTART:20270314T100000
END:DAYLIGHT
BEGIN:STANDARD
TZOFFSETFROM:-0700
TZOFFSETTO:-0800
TZNAME:PST
DTSTART:20271107T090000
END:STANDARD
END:VTIMEZONE
BEGIN:VEVENT
DTSTART;TZID=America/Los_Angeles:20260423T183000
DTEND;TZID=America/Los_Angeles:20260423T203000
DTSTAMP:20260422T085147
CREATED:20260415T150934Z
LAST-MODIFIED:20260415T150934Z
UID:44535-1776969000-1776976200@www.scrippscollege.edu
SUMMARY:Fandango Celebration with "Que Siempre Si" from CDMX
DESCRIPTION:Join us for dinner and a Fandango celebration/performance by all-female ensemble “Que Siempre Si” from CDMX. In collaboration with CHST 066 Fandango as a De-Colonial Tool \nQue siempre sí es un trío de son jarocho integrado por Stephanie Delgado\, Mariel Henry-Rojo y ‘Ana la Texana’ Arismendez\, tres músicas que ofrendan su experiencia\, raíz y una energía escénica apasionante. Su propuesta combina el alma del son con una presencia viva y poderosa que hace del escenario un punto decelebración.
URL:https://www.scrippscollege.edu/events/calendar/fandango-celebration-with-que-siempre-si-from-cdmx
LOCATION:Margaret Fowler Garden\, Scripps College\, CA\, United States
ATTACH;FMTTYPE=image/png:https://www.scrippscollege.edu/events/wp-content/uploads/sites/7/Fandango.png
ORGANIZER;CN="Intercollegiate Department of Chicana/o Latina/o Studies":MAILTO:janet.hernandez@pomona.edu
END:VEVENT
BEGIN:VEVENT
DTSTART;TZID=America/Los_Angeles:20260424T121500
DTEND;TZID=America/Los_Angeles:20260424T130000
DTSTAMP:20260422T085147
CREATED:20251220T010534Z
LAST-MODIFIED:20251220T010534Z
UID:43605-1777032900-1777035600@www.scrippscollege.edu
SUMMARY:Friday Noon Concert Series
DESCRIPTION:Sean Stanton\, baritone; Kristin Ditlow\, piano \nMusic by Beethoven\, Caplet\, and Bolcom \nPlease visit the Friday Noon Concert webpage for current information regarding upcoming concert programs and public event protocol. \n• Doors open at 12 noon\n• Admission is free and open to the public\n• Food is not permitted in the concert hall\n• All artists and programs subject to change \nCall the Scripps Music Library for more information: 909-607-3266
URL:https://www.scrippscollege.edu/events/calendar/friday-noon-concert-series-260424
LOCATION:Balch Auditorium\, 1030 Columbia Ave.\, Claremont\, 91711
CATEGORIES:Friday Noon Concerts,Live Performance
ATTACH;FMTTYPE=image/jpeg:https://www.scrippscollege.edu/events/wp-content/uploads/sites/7/files/Balch-auditorium.jpg
END:VEVENT
BEGIN:VEVENT
DTSTART;TZID=America/Los_Angeles:20260425T193000
DTEND;TZID=America/Los_Angeles:20260425T203000
DTSTAMP:20260422T085147
CREATED:20260407T214030Z
LAST-MODIFIED:20260407T214030Z
UID:44444-1777145400-1777149000@www.scrippscollege.edu
SUMMARY:Junior Recital: Ella Rasmussen (SC '27)\, soprano
DESCRIPTION:Music from across the musical theater repertoire.
URL:https://www.scrippscollege.edu/events/calendar/junior-recital-ella-rasmussen-sc-27-soprano-2
LOCATION:Boone Recital Hall\, 241 East 10th Street\, Claremont\, CA\, 91711\, United States
ATTACH;FMTTYPE=image/jpeg:https://www.scrippscollege.edu/events/wp-content/uploads/sites/7/Boone-img.jpg
END:VEVENT
BEGIN:VEVENT
DTSTART;TZID=America/Los_Angeles:20260426T150000
DTEND;TZID=America/Los_Angeles:20260426T163000
DTSTAMP:20260422T085147
CREATED:20251119T190840Z
LAST-MODIFIED:20260325T201610Z
UID:43451-1777215600-1777221000@www.scrippscollege.edu
SUMMARY:Choirs of the Joint Music Program Spring Concert
DESCRIPTION:The Joint Music Program of Claremont McKenna\, Harvey Mudd\, Pitzer\, and Scripps Colleges presents\nThe Claremont Chamber Choir and The Claremont Treble Singers.\nTzu-Han Ann Chen and Charles W. Kamm\, co-directors. \nMusic by Ivo Antognini\, Leonard Bernstein\, Maddalena Casulana\, Joseph Gregorio\, Carlos Guastavino\, Elaine Hagenberg\, Darius Lim\, Marie-Claire Saindon\, Tracy Wong\, and others. \nThere will be one performance on Sunday\, April 26 at 3:00 p.m. \nConcert will be held in Garrison Theater at the Scripps College Performing Arts Center. \nAdmission is FREE and open to the public.\nContact the Joint Music Office for more information. 909-607-3267\njointmusicprogram.org
URL:https://www.scrippscollege.edu/events/calendar/choirs-260426
LOCATION:Garrison Theater\, Scripps College Performing Arts Center\, 241 East 10th Street\, Claremont\, CA\, 91711\, United States
CATEGORIES:Live Performance
ATTACH;FMTTYPE=image/jpeg:https://www.scrippscollege.edu/events/wp-content/uploads/sites/7/Joint-Music-Combined-Choirs-2024-scaled.jpeg
END:VEVENT
END:VCALENDAR