BEGIN:VCALENDAR
VERSION:2.0
PRODID:-//Events - ECPv6.15.20//NONSGML v1.0//EN
CALSCALE:GREGORIAN
METHOD:PUBLISH
X-ORIGINAL-URL:https://www.scrippscollege.edu/events
X-WR-CALDESC:Events for Events
REFRESH-INTERVAL;VALUE=DURATION:PT1H
X-Robots-Tag:noindex
X-PUBLISHED-TTL:PT1H
BEGIN:VTIMEZONE
TZID:America/Los_Angeles
BEGIN:DAYLIGHT
TZOFFSETFROM:-0800
TZOFFSETTO:-0700
TZNAME:PDT
DTSTART:20250309T100000
END:DAYLIGHT
BEGIN:STANDARD
TZOFFSETFROM:-0700
TZOFFSETTO:-0800
TZNAME:PST
DTSTART:20251102T090000
END:STANDARD
BEGIN:DAYLIGHT
TZOFFSETFROM:-0800
TZOFFSETTO:-0700
TZNAME:PDT
DTSTART:20260308T100000
END:DAYLIGHT
BEGIN:STANDARD
TZOFFSETFROM:-0700
TZOFFSETTO:-0800
TZNAME:PST
DTSTART:20261101T090000
END:STANDARD
BEGIN:DAYLIGHT
TZOFFSETFROM:-0800
TZOFFSETTO:-0700
TZNAME:PDT
DTSTART:20270314T100000
END:DAYLIGHT
BEGIN:STANDARD
TZOFFSETFROM:-0700
TZOFFSETTO:-0800
TZNAME:PST
DTSTART:20271107T090000
END:STANDARD
END:VTIMEZONE
BEGIN:VEVENT
DTSTART;TZID=America/Los_Angeles:20260304T120000
DTEND;TZID=America/Los_Angeles:20260304T130000
DTSTAMP:20260422T103619
CREATED:20250820T144447Z
LAST-MODIFIED:20260129T190730Z
UID:42380-1772625600-1772629200@www.scrippscollege.edu
SUMMARY:Faculty @Noon with Adam Novy
DESCRIPTION:GET TICKETS \nThis event has been rescheduled to Wednesday\, March 4\, 2026. \n– – – \nExperience what it’s like to take a class with author and lecturer Adam Novy! Novy has been teaching writing\, fiction\, and the liberal arts at Scripps\, Pitzer\, and Claremont Graduate School since 2008\, and published his critically acclaimed novel\, The Avian Gospels\, in 2010. Spend lunch learning from Scripps’ distinguished faculty without ever having to enroll! \nSponsored by Scripps Presents
URL:https://www.scrippscollege.edu/events/calendar/faculty-noon-lecture-series-with-adam-novy
LOCATION:Hampton Room\, Scripps College\, 1030 Columbia Ave.\, Claremont\, CA\, 91711\, United States
CATEGORIES:@Noon,Scripps Presents
ATTACH;FMTTYPE=image/png:https://www.scrippscollege.edu/events/wp-content/uploads/sites/7/Adam-Novy_Calendar-2.png
END:VEVENT
BEGIN:VEVENT
DTSTART;TZID=America/Los_Angeles:20260306T121500
DTEND;TZID=America/Los_Angeles:20260306T130000
DTSTAMP:20260422T103619
CREATED:20251220T005324Z
LAST-MODIFIED:20251220T005324Z
UID:43593-1772799300-1772802000@www.scrippscollege.edu
SUMMARY:Friday Noon Concert Series
DESCRIPTION:Rachel V. Huang\, violin\, and Hao Huang\, piano\, perform works by Fanny Mendelssohn and Beethoven. \nPlease visit the Friday Noon Concert webpage for current information regarding upcoming concert programs and public event protocol. \n• Doors open at 12 noon\n• Admission is free and open to the public\n• Food is not permitted in the concert hall\n• All artists and programs subject to change \nCall the Scripps Music Library for more information: 909-607-3266
URL:https://www.scrippscollege.edu/events/calendar/friday-noon-concert-series-260306
LOCATION:Balch Auditorium\, 1030 Columbia Ave.\, Claremont\, 91711
CATEGORIES:Friday Noon Concerts,Live Performance
ATTACH;FMTTYPE=image/jpeg:https://www.scrippscollege.edu/events/wp-content/uploads/sites/7/files/Balch-auditorium.jpg
END:VEVENT
BEGIN:VEVENT
DTSTART;TZID=America/Los_Angeles:20260307T193000
DTEND;TZID=America/Los_Angeles:20260307T210000
DTSTAMP:20260422T103619
CREATED:20251119T183927Z
LAST-MODIFIED:20260226T001418Z
UID:43433-1772911800-1772917200@www.scrippscollege.edu
SUMMARY:Claremont Concert Orchestra Spring Concerts
DESCRIPTION:The Joint Music Program of Claremont McKenna\, Harvey Mudd\, Pitzer\, and Scripps Colleges presents\nThe Claremont Concert Orchestra.\nThis Spring Concert will feature performances by the orchestra and one of the winners of the Fall 2025 student concerto auditions\, Helios Hong (Harvey Mudd ’29) as bassoon soloist. Works by Mozart\, Shostakovich\, Wallingford Riegger\, and the world premiere of a commission by Chicago composer Darlene Castro. \nThere will be two performances. An evening concert at 7:30 p.m. on Saturday\, March 7 and a Sunday matinee at 2:00 p.m. on March 8. \nConcerts will be held in Garrison Theater at the Scripps College Performing Arts Center. \nAdmission is FREE and open to the public.\nContact the Joint Music Office for more information. 909-607-3267\njointmusicprogram.org
URL:https://www.scrippscollege.edu/events/calendar/cco-260307
LOCATION:Garrison Theater\, Scripps College Performing Arts Center\, 241 East 10th Street\, Claremont\, CA\, 91711\, United States
CATEGORIES:Live Performance
ATTACH;FMTTYPE=image/jpeg:https://www.scrippscollege.edu/events/wp-content/uploads/sites/7/CCO_March_2026_FINAL_web.jpg
END:VEVENT
BEGIN:VEVENT
DTSTART;TZID=America/Los_Angeles:20260308T140000
DTEND;TZID=America/Los_Angeles:20260308T153000
DTSTAMP:20260422T103619
CREATED:20251119T184238Z
LAST-MODIFIED:20260226T002552Z
UID:43437-1772978400-1772983800@www.scrippscollege.edu
SUMMARY:Claremont Concert Orchestra Spring Concerts
DESCRIPTION:The Joint Music Program of Claremont McKenna\, Harvey Mudd\, Pitzer\, and Scripps Colleges presents\nThe Claremont Concert Orchestra.\nThis Spring Concert will feature performances by the orchestra and one of the winners of the Fall 2025 student concerto auditions\, Helios Hong (Harvey Mudd ’29) as bassoon soloist. Works by Mozart\, Shostakovich\, Wallingford Riegger\, and the world premiere of a commission by Chicago composer Darlene Castro. \nThere will be two performances. An evening concert at 7:30 p.m. on Saturday\, March 7 and a Sunday matinee at 2:00 p.m. on March 8. \nConcerts will be held in Garrison Theater at the Scripps College Performing Arts Center. \nAdmission is FREE and open to the public.\nContact the Joint Music Office for more information. 909-607-3267\njointmusicprogram.org
URL:https://www.scrippscollege.edu/events/calendar/cco-260308
LOCATION:Garrison Theater\, Scripps College Performing Arts Center\, 241 East 10th Street\, Claremont\, CA\, 91711\, United States
CATEGORIES:Live Performance
ATTACH;FMTTYPE=image/jpeg:https://www.scrippscollege.edu/events/wp-content/uploads/sites/7/CCO_March_2026_FINAL_web.jpg
END:VEVENT
BEGIN:VEVENT
DTSTART;TZID=America/Los_Angeles:20260310T193000
DTEND;TZID=America/Los_Angeles:20260310T210000
DTSTAMP:20260422T103619
CREATED:20251220T011140Z
LAST-MODIFIED:20251220T011140Z
UID:43614-1773171000-1773176400@www.scrippscollege.edu
SUMMARY:Student Recital
DESCRIPTION:Performances by students of the Scripps College Music Department.
URL:https://www.scrippscollege.edu/events/calendar/student-recital-260310
LOCATION:Boone Recital Hall\, 241 East 10th Street\, Claremont\, CA\, 91711\, United States
CATEGORIES:Live Performance
ATTACH;FMTTYPE=image/jpeg:https://www.scrippscollege.edu/events/wp-content/uploads/sites/7/files/Venue-Boone-2.jpg
END:VEVENT
BEGIN:VEVENT
DTSTART;TZID=America/Los_Angeles:20260312T193000
DTEND;TZID=America/Los_Angeles:20260312T210000
DTSTAMP:20260422T103619
CREATED:20260220T000053Z
LAST-MODIFIED:20260220T000054Z
UID:44022-1773343800-1773349200@www.scrippscollege.edu
SUMMARY:Naamyam Music from Hong Kong
DESCRIPTION:Naamyam master Bruce Wing To and his ensemble perform music from Hong Kong in Boone Recital Hall. \nThis event is co-sponsored by the Pomona College History Department Ena H. Thompson Lectures. \nAll events are free and open to the public. For more information\, call (909) 607-3266
URL:https://www.scrippscollege.edu/events/calendar/naamyam-music-from-hong-kong-260312
LOCATION:Boone Recital Hall\, 241 East 10th Street\, Claremont\, CA\, 91711\, United States
CATEGORIES:Live Performance
ATTACH;FMTTYPE=image/jpeg:https://www.scrippscollege.edu/events/wp-content/uploads/sites/7/files/Venue-Boone-2.jpg
END:VEVENT
BEGIN:VEVENT
DTSTART;TZID=America/Los_Angeles:20260324T190000
DTEND;TZID=America/Los_Angeles:20260324T200000
DTSTAMP:20260422T103619
CREATED:20250820T141815Z
LAST-MODIFIED:20260320T194700Z
UID:42419-1774378800-1774382400@www.scrippscollege.edu
SUMMARY:Amanda Knox in Conversation
DESCRIPTION:GET TICKETS \nFinding herself at the center of a murder investigation as a young college student in a foreign country\, Amanda Knox spent years fighting against Italy’s legal system and sensationalized media narratives before finally being exonerated. Join us to hear her story of resilience\, justice\, and reclaiming identity\, in conversation with Eden West ’28 and Gretchen Maldonado\, Director of the Laspa Center for Leadership. \n Sponsored by the Alexa Fullerton Hampton Fund and Scripps Presents  \n 
URL:https://www.scrippscollege.edu/events/calendar/amanda-knox-in-conversation
LOCATION:Garrison Theater\, 231 E. 10th Street\, Claremont\, CA\, 91711
CATEGORIES:Scripps Presents
ATTACH;FMTTYPE=image/png:https://www.scrippscollege.edu/events/wp-content/uploads/sites/7/Amanda-Knox_Calendar.png
END:VEVENT
BEGIN:VEVENT
DTSTART;TZID=America/Los_Angeles:20260331T161500
DTEND;TZID=America/Los_Angeles:20260331T173000
DTSTAMP:20260422T103619
CREATED:20260317T165000Z
LAST-MODIFIED:20260317T165000Z
UID:44196-1774973700-1774978200@www.scrippscollege.edu
SUMMARY:Democracy from Below: Writing Women Back into Indian Politics
DESCRIPTION:Most Indian women live increasingly precarious lives as they hustle for work and to sustain families in a changing India\, and are rarely represented in official narratives. Drawing on her recent book\, The Many Lives of Syeda X\, and over a decade of reporting\, award-winning writer Neha Dixit will discuss how marginalized Indian women navigate migration\, neoliberal economic reforms\, gendered surveillance and majoritarianism\, and what it takes to tell their stories amidst shrinking media freedoms and democratic backsliding. She will also discuss how public interest journalism can bring hidden struggles back into the national conversation\, document human rights violations\, and revitalize democracy\, with implications for India and other political contexts.
URL:https://www.scrippscollege.edu/events/calendar/democracy-from-below-writing-women-back-into-indian-politics
LOCATION:Vita Nova 100\, 1030 N Columbia Ave.\, Scripps College\, CA\, 91711\, United States
ATTACH;FMTTYPE=image/jpeg:https://www.scrippscollege.edu/events/wp-content/uploads/sites/7/headshot-2.jpg
ORGANIZER;CN="Sumita Pahwa":MAILTO:spahwa@scrippscollege.edu
END:VEVENT
END:VCALENDAR