BEGIN:VCALENDAR
VERSION:2.0
PRODID:-//Events - ECPv6.15.20//NONSGML v1.0//EN
CALSCALE:GREGORIAN
METHOD:PUBLISH
X-WR-CALNAME:Events
X-ORIGINAL-URL:https://www.scrippscollege.edu/events
X-WR-CALDESC:Events for Events
REFRESH-INTERVAL;VALUE=DURATION:PT1H
X-Robots-Tag:noindex
X-PUBLISHED-TTL:PT1H
BEGIN:VTIMEZONE
TZID:America/Los_Angeles
BEGIN:DAYLIGHT
TZOFFSETFROM:-0800
TZOFFSETTO:-0700
TZNAME:PDT
DTSTART:20250309T100000
END:DAYLIGHT
BEGIN:STANDARD
TZOFFSETFROM:-0700
TZOFFSETTO:-0800
TZNAME:PST
DTSTART:20251102T090000
END:STANDARD
BEGIN:DAYLIGHT
TZOFFSETFROM:-0800
TZOFFSETTO:-0700
TZNAME:PDT
DTSTART:20260308T100000
END:DAYLIGHT
BEGIN:STANDARD
TZOFFSETFROM:-0700
TZOFFSETTO:-0800
TZNAME:PST
DTSTART:20261101T090000
END:STANDARD
BEGIN:DAYLIGHT
TZOFFSETFROM:-0800
TZOFFSETTO:-0700
TZNAME:PDT
DTSTART:20270314T100000
END:DAYLIGHT
BEGIN:STANDARD
TZOFFSETFROM:-0700
TZOFFSETTO:-0800
TZNAME:PST
DTSTART:20271107T090000
END:STANDARD
END:VTIMEZONE
BEGIN:VEVENT
DTSTART;TZID=America/Los_Angeles:20260506T193000
DTEND;TZID=America/Los_Angeles:20260506T210000
DTSTAMP:20260424T030818
CREATED:20251220T011547Z
LAST-MODIFIED:20251220T011547Z
UID:43623-1778095800-1778101200@www.scrippscollege.edu
SUMMARY:Student Recital
DESCRIPTION:Performances by students of the Scripps College Music Department.
URL:https://www.scrippscollege.edu/events/calendar/student-recital-260506
LOCATION:Boone Recital Hall\, 241 East 10th Street\, Claremont\, CA\, 91711\, United States
CATEGORIES:Live Performance
ATTACH;FMTTYPE=image/jpeg:https://www.scrippscollege.edu/events/wp-content/uploads/sites/7/files/Venue-Boone-2.jpg
END:VEVENT
BEGIN:VEVENT
DTSTART;TZID=America/Los_Angeles:20260507T094500
DTEND;TZID=America/Los_Angeles:20260507T154500
DTSTAMP:20260424T030818
CREATED:20260423T203155Z
LAST-MODIFIED:20260423T203555Z
UID:44590-1778147100-1778168700@www.scrippscollege.edu
SUMMARY:Capstone Day
DESCRIPTION:Join us for Capstone Day\, an annual Scripps tradition and permanent feature on the spring calendar. On this special day\, the entire Scripps community comes together in celebration of the senior class’s accomplishments. \nIts centerpiece\, the Mary Wig Johnson Senior Forum\, showcases intellectual collaboration across the disciplines between students and faculty\, who every year come together to produce outstanding senior theses. Attentive to the diversity of student interest and accomplishment\, this celebratory event will be held in a variety of spaces on campus and will include audience Q&A. \nThe link for the program and schedule will be available soon.
URL:https://www.scrippscollege.edu/events/calendar/44590
LOCATION:Edwards Humanities Building
ATTACH;FMTTYPE=image/png:https://www.scrippscollege.edu/events/wp-content/uploads/sites/7/Capstone-Day-20205_Calendar.png
END:VEVENT
BEGIN:VEVENT
DTSTART;TZID=America/Los_Angeles:20260507T190000
DTEND;TZID=America/Los_Angeles:20260507T203000
DTSTAMP:20260424T030818
CREATED:20251220T011425Z
LAST-MODIFIED:20260331T230550Z
UID:43620-1778180400-1778185800@www.scrippscollege.edu
SUMMARY:Student Recital
DESCRIPTION:Performances by students of the Scripps College Music Department.
URL:https://www.scrippscollege.edu/events/calendar/student-recital-260505
LOCATION:Drinkward Recital Hall\, 320 E. Foothill Blvd.\, Claremont\, CA\, 91711\, United States
CATEGORIES:Live Performance
ATTACH;FMTTYPE=image/jpeg:https://www.scrippscollege.edu/events/wp-content/uploads/sites/7/Drinkward-recital-hall-HMC-1.jpg
END:VEVENT
END:VCALENDAR