BEGIN:VCALENDAR
VERSION:2.0
PRODID:-//Events - ECPv6.15.20//NONSGML v1.0//EN
CALSCALE:GREGORIAN
METHOD:PUBLISH
X-WR-CALNAME:Events
X-ORIGINAL-URL:https://www.scrippscollege.edu/events
X-WR-CALDESC:Events for Events
REFRESH-INTERVAL;VALUE=DURATION:PT1H
X-Robots-Tag:noindex
X-PUBLISHED-TTL:PT1H
BEGIN:VTIMEZONE
TZID:America/Los_Angeles
BEGIN:DAYLIGHT
TZOFFSETFROM:-0800
TZOFFSETTO:-0700
TZNAME:PDT
DTSTART:20240310T100000
END:DAYLIGHT
BEGIN:STANDARD
TZOFFSETFROM:-0700
TZOFFSETTO:-0800
TZNAME:PST
DTSTART:20241103T090000
END:STANDARD
BEGIN:DAYLIGHT
TZOFFSETFROM:-0800
TZOFFSETTO:-0700
TZNAME:PDT
DTSTART:20250309T100000
END:DAYLIGHT
BEGIN:STANDARD
TZOFFSETFROM:-0700
TZOFFSETTO:-0800
TZNAME:PST
DTSTART:20251102T090000
END:STANDARD
BEGIN:DAYLIGHT
TZOFFSETFROM:-0800
TZOFFSETTO:-0700
TZNAME:PDT
DTSTART:20260308T100000
END:DAYLIGHT
BEGIN:STANDARD
TZOFFSETFROM:-0700
TZOFFSETTO:-0800
TZNAME:PST
DTSTART:20261101T090000
END:STANDARD
END:VTIMEZONE
BEGIN:VEVENT
DTSTART;TZID=America/Los_Angeles:20250424T120000
DTEND;TZID=America/Los_Angeles:20250424T130000
DTSTAMP:20260419T075808
CREATED:20250122T180528Z
LAST-MODIFIED:20250219T211919Z
UID:40776-1745496000-1745499600@www.scrippscollege.edu
SUMMARY:@Noon with Briana Loewinsohn
DESCRIPTION:GET TICKETS!! \nCartoonist and author Briana Loewinsohn will discuss her acclaimed graphic novel Ephemera: A Memoir\, and newly released young adult graphic novel Raised by Ghosts\, in the Hampton Room for a special @ Noon event you won’t want to miss. Both novels draw from Loewinsohn’s own life and experiences. A book signing will take place after the moderated conversation.    \n 
URL:https://www.scrippscollege.edu/events/calendar/noon-with-briana-loewinsoh
LOCATION:Hampton Room\, Scripps College\, 1030 Columbia Ave.\, Claremont\, CA\, 91711\, United States
CATEGORIES:Scripps Presents
ATTACH;FMTTYPE=image/png:https://www.scrippscollege.edu/events/wp-content/uploads/sites/7/1209208045795823.KZnDiEpQqCjlyBC4S7X8_height640-1.png
END:VEVENT
BEGIN:VEVENT
DTSTART;TZID=America/Los_Angeles:20250422T163000
DTEND;TZID=America/Los_Angeles:20250422T180000
DTSTAMP:20260419T075809
CREATED:20250410T213202Z
LAST-MODIFIED:20250410T213202Z
UID:42044-1745339400-1745344800@www.scrippscollege.edu
SUMMARY:Perspectival Testimony
DESCRIPTION:Testimony transmits information. But it also suggests certain ways of organising that information. This talk examines whether speakers are responsible for the way they organise information\, as well as for the content they communicate.
URL:https://www.scrippscollege.edu/events/calendar/perspectival-testimony
LOCATION:Balch Auditorium\, 1030 Columbia Ave.\, Scripps College\, Scripps College\, Claremont\, 91711\, United States
ATTACH;FMTTYPE=image/jpeg:https://www.scrippscollege.edu/events/wp-content/uploads/sites/7/rachel-fraser-headshot-2025-002.jpg
ORGANIZER;CN="Humanities Institute":MAILTO:HumanitiesInstitute@scrippscollege.edu
END:VEVENT
END:VCALENDAR