BEGIN:VCALENDAR
VERSION:2.0
PRODID:-//Events - ECPv6.15.20//NONSGML v1.0//EN
CALSCALE:GREGORIAN
METHOD:PUBLISH
X-ORIGINAL-URL:https://www.scrippscollege.edu/events
X-WR-CALDESC:Events for Events
REFRESH-INTERVAL;VALUE=DURATION:PT1H
X-Robots-Tag:noindex
X-PUBLISHED-TTL:PT1H
BEGIN:VTIMEZONE
TZID:America/Los_Angeles
BEGIN:DAYLIGHT
TZOFFSETFROM:-0800
TZOFFSETTO:-0700
TZNAME:PDT
DTSTART:20240310T100000
END:DAYLIGHT
BEGIN:STANDARD
TZOFFSETFROM:-0700
TZOFFSETTO:-0800
TZNAME:PST
DTSTART:20241103T090000
END:STANDARD
BEGIN:DAYLIGHT
TZOFFSETFROM:-0800
TZOFFSETTO:-0700
TZNAME:PDT
DTSTART:20250309T100000
END:DAYLIGHT
BEGIN:STANDARD
TZOFFSETFROM:-0700
TZOFFSETTO:-0800
TZNAME:PST
DTSTART:20251102T090000
END:STANDARD
BEGIN:DAYLIGHT
TZOFFSETFROM:-0800
TZOFFSETTO:-0700
TZNAME:PDT
DTSTART:20260308T100000
END:DAYLIGHT
BEGIN:STANDARD
TZOFFSETFROM:-0700
TZOFFSETTO:-0800
TZNAME:PST
DTSTART:20261101T090000
END:STANDARD
END:VTIMEZONE
BEGIN:VEVENT
DTSTART;TZID=America/Los_Angeles:20250424T163000
DTEND;TZID=America/Los_Angeles:20250425T170000
DTSTAMP:20260425T060218
CREATED:20250418T001914Z
LAST-MODIFIED:20250418T001914Z
UID:42077-1745512200-1745600400@www.scrippscollege.edu
SUMMARY:Conspiracy Theories Workshop
DESCRIPTION:April 24th \n\n\n4:30 PM – 6:00 PM Brian Keely (PZ) \n\n\nNot All Conspiracy Theorists & Not All Conspiracy Theories \n\n\nApril 25th \n\n\n9:00 AM Continental Breakfast \n\n\n9:30 AM – 11:00 AM Miriam McCormick (U of Richmond) \n\n\nDo Conspiracy Theorists Really Believe What They Claim? \n\n\n11:00 AM – 12:30 PM Sinan Dogramaci (UT Austin) \n\n\nWhat Are the Odds That My So-Called Life is Just a Cheap TV Show? \n\n\n12:30 PM – 1:45 PM Lunch \n\n\n1:45 PM – 3:15 PM Eli Alshanetsky (Temple University) \n\n\nFreedom of Thought and Conspiracy Theories: Rethinking \n\n\n“Independent Research” \n\n\n3:15 PM – 3:30 PM Break \n\n\n3:30 PM – 5:00 PM Elise Wang (CSU Fullerton) \n\n\nThe Conspiracy Story
URL:https://www.scrippscollege.edu/events/calendar/conspiracy-theories-workshop
LOCATION:Vita Nova 100\, 1030 N Columbia Ave.\, Scripps College\, CA\, 91711\, United States
ORGANIZER;CN="Humanities Institute":MAILTO:HumanitiesInstitute@scrippscollege.edu
END:VEVENT
BEGIN:VEVENT
DTSTART;TZID=America/Los_Angeles:20250425T121500
DTEND;TZID=America/Los_Angeles:20250425T130000
DTSTAMP:20260425T060218
CREATED:20250129T021716Z
LAST-MODIFIED:20250129T021716Z
UID:40904-1745583300-1745586000@www.scrippscollege.edu
SUMMARY:Friday Noon Concert Series
DESCRIPTION:Violinist Sarah Thronblade and guitarist Connie Sheu perform on April 25th in the final Friday Noon Concert of the semester.\nPlease visit the Friday Noon Concert webpage for current information regarding upcoming concert programs and public event protocol. \n• Doors open at 12 noon\n• Admission is free and open to the public\n• Food is not permitted in the concert hall\n• All artists and programs subject to change \nCall the Scripps Music Library for more information: 909-607-3266
URL:https://www.scrippscollege.edu/events/calendar/friday-noon-concert-series-250425
LOCATION:Balch Auditorium\, Scripps College 1030 Columbia Ave.\, Claremont\, CA\, 91711\, United States
CATEGORIES:Friday Noon Concerts,Live Performance
ATTACH;FMTTYPE=image/jpeg:https://www.scrippscollege.edu/events/wp-content/uploads/sites/7/Balch-Auditorium-Event-Listing.jpg
END:VEVENT
END:VCALENDAR